BEGIN:VCALENDAR
VERSION:2.0
PRODID:-//Cessnock Leagues Club - ECPv6.15.16.1//NONSGML v1.0//EN
CALSCALE:GREGORIAN
METHOD:PUBLISH
X-ORIGINAL-URL:https://www.cessnockleagues.com.au
X-WR-CALDESC:Events for Cessnock Leagues Club
REFRESH-INTERVAL;VALUE=DURATION:PT1H
X-Robots-Tag:noindex
X-PUBLISHED-TTL:PT1H
BEGIN:VTIMEZONE
TZID:Australia/Sydney
BEGIN:STANDARD
TZOFFSETFROM:+1100
TZOFFSETTO:+1000
TZNAME:AEST
DTSTART:20240406T160000
END:STANDARD
BEGIN:DAYLIGHT
TZOFFSETFROM:+1000
TZOFFSETTO:+1100
TZNAME:AEDT
DTSTART:20241005T160000
END:DAYLIGHT
BEGIN:STANDARD
TZOFFSETFROM:+1100
TZOFFSETTO:+1000
TZNAME:AEST
DTSTART:20250405T160000
END:STANDARD
BEGIN:DAYLIGHT
TZOFFSETFROM:+1000
TZOFFSETTO:+1100
TZNAME:AEDT
DTSTART:20251004T160000
END:DAYLIGHT
BEGIN:STANDARD
TZOFFSETFROM:+1100
TZOFFSETTO:+1000
TZNAME:AEST
DTSTART:20260404T160000
END:STANDARD
BEGIN:DAYLIGHT
TZOFFSETFROM:+1000
TZOFFSETTO:+1100
TZNAME:AEDT
DTSTART:20261003T160000
END:DAYLIGHT
BEGIN:STANDARD
TZOFFSETFROM:+1100
TZOFFSETTO:+1000
TZNAME:AEST
DTSTART:20270403T160000
END:STANDARD
BEGIN:DAYLIGHT
TZOFFSETFROM:+1000
TZOFFSETTO:+1100
TZNAME:AEDT
DTSTART:20271002T160000
END:DAYLIGHT
END:VTIMEZONE
BEGIN:VTIMEZONE
TZID:UTC
BEGIN:STANDARD
TZOFFSETFROM:+0000
TZOFFSETTO:+0000
TZNAME:UTC
DTSTART:20240101T000000
END:STANDARD
END:VTIMEZONE
BEGIN:VEVENT
DTSTART;TZID=Australia/Sydney:20260306T200000
DTEND;TZID=Australia/Sydney:20260306T230000
DTSTAMP:20260420T182546
CREATED:20250321T031735Z
LAST-MODIFIED:20260106T021049Z
UID:2407-1772827200-1772838000@www.cessnockleagues.com.au
SUMMARY:Trinity Woodhouse
DESCRIPTION:
URL:https://www.cessnockleagues.com.au/event/trinity-woodhouse/
CATEGORIES:Live Entertainment
ATTACH;FMTTYPE=image/jpeg:https://www.cessnockleagues.com.au/wp-content/uploads/2025/03/6_3.jpg
END:VEVENT
BEGIN:VEVENT
DTSTART;TZID=Australia/Sydney:20260228T200000
DTEND;TZID=Australia/Sydney:20260228T230000
DTSTAMP:20260420T182546
CREATED:20250918T224631Z
LAST-MODIFIED:20260106T015133Z
UID:2583-1772308800-1772319600@www.cessnockleagues.com.au
SUMMARY:The Moops
DESCRIPTION:
URL:https://www.cessnockleagues.com.au/event/the-moops/
CATEGORIES:Live Entertainment
ATTACH;FMTTYPE=image/jpeg:https://www.cessnockleagues.com.au/wp-content/uploads/2025/09/28_2.jpg
END:VEVENT
BEGIN:VEVENT
DTSTART;TZID=Australia/Sydney:20260227T200000
DTEND;TZID=Australia/Sydney:20260227T230000
DTSTAMP:20260420T182546
CREATED:20250321T023556Z
LAST-MODIFIED:20260106T014446Z
UID:2388-1772222400-1772233200@www.cessnockleagues.com.au
SUMMARY:Scotty Mac
DESCRIPTION:
URL:https://www.cessnockleagues.com.au/event/scotty-mac/
CATEGORIES:Live Entertainment
ATTACH;FMTTYPE=image/jpeg:https://www.cessnockleagues.com.au/wp-content/uploads/2025/03/27_2.jpg
END:VEVENT
BEGIN:VEVENT
DTSTART;TZID=Australia/Sydney:20260221T200000
DTEND;TZID=Australia/Sydney:20260221T200000
DTSTAMP:20260420T182546
CREATED:20260106T012252Z
LAST-MODIFIED:20260106T013530Z
UID:2653-1771704000-1771704000@www.cessnockleagues.com.au
SUMMARY:Anyerin Duo
DESCRIPTION:
URL:https://www.cessnockleagues.com.au/event/anyerin-duo-3/
CATEGORIES:Live Entertainment
ATTACH;FMTTYPE=image/jpeg:https://www.cessnockleagues.com.au/wp-content/uploads/2026/01/21_2-1.jpg
END:VEVENT
BEGIN:VEVENT
DTSTART;TZID=Australia/Sydney:20260214T200000
DTEND;TZID=Australia/Sydney:20260214T230000
DTSTAMP:20260420T182546
CREATED:20250919T000106Z
LAST-MODIFIED:20260106T025636Z
UID:2592-1771099200-1771110000@www.cessnockleagues.com.au
SUMMARY:Kristy James Duo
DESCRIPTION:
URL:https://www.cessnockleagues.com.au/event/kristy-james-duo-2/
CATEGORIES:Live Entertainment
ATTACH;FMTTYPE=image/jpeg:https://www.cessnockleagues.com.au/wp-content/uploads/2025/09/14_2.jpg
END:VEVENT
BEGIN:VEVENT
DTSTART;TZID=Australia/Sydney:20260213T200000
DTEND;TZID=Australia/Sydney:20260213T230000
DTSTAMP:20260420T182546
CREATED:20250321T024450Z
LAST-MODIFIED:20260106T025451Z
UID:2399-1771012800-1771023600@www.cessnockleagues.com.au
SUMMARY:Pistol Pete
DESCRIPTION:
URL:https://www.cessnockleagues.com.au/event/pistol-pete/
CATEGORIES:Live Entertainment
ATTACH;FMTTYPE=image/jpeg:https://www.cessnockleagues.com.au/wp-content/uploads/2025/03/13_2.jpg
END:VEVENT
BEGIN:VEVENT
DTSTART;TZID=Australia/Sydney:20260207T200000
DTEND;TZID=Australia/Sydney:20260207T230000
DTSTAMP:20260420T182546
CREATED:20250321T031516Z
LAST-MODIFIED:20260106T025341Z
UID:2405-1770494400-1770505200@www.cessnockleagues.com.au
SUMMARY:Teasha & Mari
DESCRIPTION:
URL:https://www.cessnockleagues.com.au/event/teasha-mari/
CATEGORIES:Live Entertainment
ATTACH;FMTTYPE=image/jpeg:https://www.cessnockleagues.com.au/wp-content/uploads/2025/03/7_2.jpg
END:VEVENT
BEGIN:VEVENT
DTSTART;TZID=Australia/Sydney:20260206T200000
DTEND;TZID=Australia/Sydney:20260206T230000
DTSTAMP:20260420T182546
CREATED:20250321T023930Z
LAST-MODIFIED:20260106T025121Z
UID:2393-1770408000-1770418800@www.cessnockleagues.com.au
SUMMARY:Karen O'Shea
DESCRIPTION:
URL:https://www.cessnockleagues.com.au/event/karen-oshea/
CATEGORIES:Live Entertainment
ATTACH;FMTTYPE=image/jpeg:https://www.cessnockleagues.com.au/wp-content/uploads/2025/03/6_2.jpg
END:VEVENT
BEGIN:VEVENT
DTSTART;TZID=Australia/Sydney:20260131T200000
DTEND;TZID=Australia/Sydney:20260131T200000
DTSTAMP:20260420T182546
CREATED:20260106T024803Z
LAST-MODIFIED:20260106T024803Z
UID:2665-1769889600-1769889600@www.cessnockleagues.com.au
SUMMARY:Outerphase
DESCRIPTION:
URL:https://www.cessnockleagues.com.au/event/outerphase/
CATEGORIES:Live Entertainment
ATTACH;FMTTYPE=image/jpeg:https://www.cessnockleagues.com.au/wp-content/uploads/2026/01/31_1.jpg
END:VEVENT
BEGIN:VEVENT
DTSTART;TZID=Australia/Sydney:20260130T200000
DTEND;TZID=Australia/Sydney:20260130T230000
DTSTAMP:20260420T182546
CREATED:20250321T030942Z
LAST-MODIFIED:20260106T011653Z
UID:2403-1769803200-1769814000@www.cessnockleagues.com.au
SUMMARY:Anthony Lee
DESCRIPTION:
URL:https://www.cessnockleagues.com.au/event/anthony-lee/
CATEGORIES:Live Entertainment
ATTACH;FMTTYPE=image/jpeg:https://www.cessnockleagues.com.au/wp-content/uploads/2025/03/30_1.jpg
END:VEVENT
BEGIN:VEVENT
DTSTART;TZID=Australia/Sydney:20260117T200000
DTEND;TZID=Australia/Sydney:20260117T230000
DTSTAMP:20260420T182546
CREATED:20250919T004722Z
LAST-MODIFIED:20260106T004151Z
UID:2597-1768680000-1768690800@www.cessnockleagues.com.au
SUMMARY:Spank'n The Monkey
DESCRIPTION:
URL:https://www.cessnockleagues.com.au/event/spankn-the-monkey/
CATEGORIES:Live Entertainment
ATTACH;FMTTYPE=image/jpeg:https://www.cessnockleagues.com.au/wp-content/uploads/2025/09/17_1.jpg
END:VEVENT
BEGIN:VEVENT
DTSTART;TZID=Australia/Sydney:20260116T200000
DTEND;TZID=Australia/Sydney:20260116T230000
DTSTAMP:20260420T182546
CREATED:20250618T033009Z
LAST-MODIFIED:20260106T003550Z
UID:2514-1768593600-1768604400@www.cessnockleagues.com.au
SUMMARY:Chris Saxby
DESCRIPTION:
URL:https://www.cessnockleagues.com.au/event/chris-saxby/
CATEGORIES:Live Entertainment
ATTACH;FMTTYPE=image/jpeg:https://www.cessnockleagues.com.au/wp-content/uploads/2025/06/16_1.jpg
END:VEVENT
BEGIN:VEVENT
DTSTART;TZID=Australia/Sydney:20260110T200000
DTEND;TZID=Australia/Sydney:20260110T200000
DTSTAMP:20260420T182546
CREATED:20260106T001736Z
LAST-MODIFIED:20260106T002103Z
UID:2645-1768075200-1768075200@www.cessnockleagues.com.au
SUMMARY:Redlion
DESCRIPTION:
URL:https://www.cessnockleagues.com.au/event/redlion/
CATEGORIES:Live Entertainment
ATTACH;FMTTYPE=image/jpeg:https://www.cessnockleagues.com.au/wp-content/uploads/2026/01/10_1.jpg
END:VEVENT
BEGIN:VEVENT
DTSTART;TZID=Australia/Sydney:20260109T200000
DTEND;TZID=Australia/Sydney:20260109T230000
DTSTAMP:20260420T182546
CREATED:20250919T010026Z
LAST-MODIFIED:20260106T001125Z
UID:2602-1767988800-1767999600@www.cessnockleagues.com.au
SUMMARY:Ben Smith
DESCRIPTION:
URL:https://www.cessnockleagues.com.au/event/ben-smith-3/
CATEGORIES:Live Entertainment
ATTACH;FMTTYPE=image/jpeg:https://www.cessnockleagues.com.au/wp-content/uploads/2025/09/9_1.jpg
END:VEVENT
BEGIN:VEVENT
DTSTART;TZID=Australia/Sydney:20251226T200000
DTEND;TZID=Australia/Sydney:20251226T230000
DTSTAMP:20260420T182546
CREATED:20250919T011802Z
LAST-MODIFIED:20250919T011802Z
UID:2605-1766779200-1766790000@www.cessnockleagues.com.au
SUMMARY:Mitchell Bayliss
DESCRIPTION:
URL:https://www.cessnockleagues.com.au/event/mitchell-bayliss/
CATEGORIES:Live Entertainment
ATTACH;FMTTYPE=image/jpeg:https://www.cessnockleagues.com.au/wp-content/uploads/2025/09/26TH-DEC.jpg
END:VEVENT
BEGIN:VEVENT
DTSTART;TZID=Australia/Sydney:20251220T200000
DTEND;TZID=Australia/Sydney:20251220T230000
DTSTAMP:20260420T182546
CREATED:20220120T040501Z
LAST-MODIFIED:20250919T011332Z
UID:1352-1766260800-1766271600@www.cessnockleagues.com.au
SUMMARY:Hey Poncho
DESCRIPTION:
URL:https://www.cessnockleagues.com.au/event/hey-poncho/
CATEGORIES:Live Entertainment
ATTACH;FMTTYPE=image/jpeg:https://www.cessnockleagues.com.au/wp-content/uploads/2022/01/20TH-DEC.jpg
END:VEVENT
BEGIN:VEVENT
DTSTART;TZID=Australia/Sydney:20251205T200000
DTEND;TZID=Australia/Sydney:20251205T230000
DTSTAMP:20260420T182546
CREATED:20250618T010445Z
LAST-MODIFIED:20250919T004200Z
UID:2484-1764964800-1764975600@www.cessnockleagues.com.au
SUMMARY:Dan Mani
DESCRIPTION:
URL:https://www.cessnockleagues.com.au/event/dan-mani/
CATEGORIES:Live Entertainment
ATTACH;FMTTYPE=image/jpeg:https://www.cessnockleagues.com.au/wp-content/uploads/2025/06/5TH-DEC.jpg
END:VEVENT
BEGIN:VEVENT
DTSTART;TZID=Australia/Sydney:20251129T200000
DTEND;TZID=Australia/Sydney:20251129T230000
DTSTAMP:20260420T182546
CREATED:20250618T031418Z
LAST-MODIFIED:20250919T002539Z
UID:2508-1764446400-1764457200@www.cessnockleagues.com.au
SUMMARY:Jai Maree Duo
DESCRIPTION:
URL:https://www.cessnockleagues.com.au/event/jai-maree-duo-2/
CATEGORIES:Live Entertainment
ATTACH;FMTTYPE=image/jpeg:https://www.cessnockleagues.com.au/wp-content/uploads/2025/06/29TH-NOV.jpg
END:VEVENT
BEGIN:VEVENT
DTSTART;TZID=Australia/Sydney:20251115T200000
DTEND;TZID=Australia/Sydney:20251115T230000
DTSTAMP:20260420T182546
CREATED:20230301T235101Z
LAST-MODIFIED:20250918T233345Z
UID:1731-1763236800-1763247600@www.cessnockleagues.com.au
SUMMARY:2GoodReasons
DESCRIPTION:
URL:https://www.cessnockleagues.com.au/event/2goodreasons-3/
CATEGORIES:Live Entertainment
ATTACH;FMTTYPE=image/jpeg:https://www.cessnockleagues.com.au/wp-content/uploads/2023/03/15TH-NOV.jpg
END:VEVENT
BEGIN:VEVENT
DTSTART;TZID=Australia/Sydney:20251108T200000
DTEND;TZID=Australia/Sydney:20251108T230000
DTSTAMP:20260420T182546
CREATED:20250618T004803Z
LAST-MODIFIED:20250918T232056Z
UID:2482-1762632000-1762642800@www.cessnockleagues.com.au
SUMMARY:Cover 2 Cover
DESCRIPTION:
URL:https://www.cessnockleagues.com.au/event/cover-2-cover/
CATEGORIES:Live Entertainment
ATTACH;FMTTYPE=image/jpeg:https://www.cessnockleagues.com.au/wp-content/uploads/2025/06/8TH-NOV-2.jpg
END:VEVENT
BEGIN:VEVENT
DTSTART;TZID=Australia/Sydney:20251031T200000
DTEND;TZID=Australia/Sydney:20251031T230000
DTSTAMP:20260420T182546
CREATED:20250918T223114Z
LAST-MODIFIED:20250918T223114Z
UID:2581-1761940800-1761951600@www.cessnockleagues.com.au
SUMMARY:Faith Williams
DESCRIPTION:
URL:https://www.cessnockleagues.com.au/event/faith-williams/
CATEGORIES:Live Entertainment
ATTACH;FMTTYPE=image/jpeg:https://www.cessnockleagues.com.au/wp-content/uploads/2025/09/31ST-OCT.jpg
END:VEVENT
BEGIN:VEVENT
DTSTART;TZID=Australia/Sydney:20251024T200000
DTEND;TZID=Australia/Sydney:20251024T230000
DTSTAMP:20260420T182546
CREATED:20250321T033146Z
LAST-MODIFIED:20250918T052249Z
UID:2419-1761336000-1761346800@www.cessnockleagues.com.au
SUMMARY:Greg Bryce
DESCRIPTION:
URL:https://www.cessnockleagues.com.au/event/greg-bryce-duo/
CATEGORIES:Live Entertainment
ATTACH;FMTTYPE=image/jpeg:https://www.cessnockleagues.com.au/wp-content/uploads/2025/03/24TH-OCT.jpg
END:VEVENT
BEGIN:VEVENT
DTSTART;TZID=Australia/Sydney:20251017T200000
DTEND;TZID=Australia/Sydney:20251017T230000
DTSTAMP:20260420T182546
CREATED:20250321T023202Z
LAST-MODIFIED:20250918T050844Z
UID:2384-1760731200-1760742000@www.cessnockleagues.com.au
SUMMARY:Boney Rivers
DESCRIPTION:
URL:https://www.cessnockleagues.com.au/event/boney-rivers/
CATEGORIES:Live Entertainment
ATTACH;FMTTYPE=image/jpeg:https://www.cessnockleagues.com.au/wp-content/uploads/2025/03/17TH-OCT.jpg
END:VEVENT
BEGIN:VEVENT
DTSTART;TZID=Australia/Sydney:20251011T200000
DTEND;TZID=Australia/Sydney:20251011T230000
DTSTAMP:20260420T182546
CREATED:20230519T062145Z
LAST-MODIFIED:20250918T045214Z
UID:1807-1760212800-1760223600@www.cessnockleagues.com.au
SUMMARY:Paparazzi
DESCRIPTION:
URL:https://www.cessnockleagues.com.au/event/paparazzi-4/
CATEGORIES:Live Entertainment
ATTACH;FMTTYPE=image/jpeg:https://www.cessnockleagues.com.au/wp-content/uploads/2023/05/11TH-OCT.jpg
END:VEVENT
BEGIN:VEVENT
DTSTART;TZID=UTC:20251010T200000
DTEND;TZID=UTC:20251010T230000
DTSTAMP:20260420T182546
CREATED:20220428T000138Z
LAST-MODIFIED:20250918T044011Z
UID:1469-1760126400-1760137200@www.cessnockleagues.com.au
SUMMARY:Dave Carter
DESCRIPTION:
URL:https://www.cessnockleagues.com.au/event/dave-carter-2/
CATEGORIES:Live Entertainment
ATTACH;FMTTYPE=image/jpeg:https://www.cessnockleagues.com.au/wp-content/uploads/2022/04/10TH-OCT.jpg
END:VEVENT
BEGIN:VEVENT
DTSTART;TZID=Australia/Sydney:20251004T200000
DTEND;TZID=Australia/Sydney:20251004T230000
DTSTAMP:20260420T182546
CREATED:20230301T233627Z
LAST-MODIFIED:20250918T042805Z
UID:1721-1759608000-1759618800@www.cessnockleagues.com.au
SUMMARY:Macreid
DESCRIPTION:
URL:https://www.cessnockleagues.com.au/event/macreid-2/
CATEGORIES:Live Entertainment
ATTACH;FMTTYPE=image/jpeg:https://www.cessnockleagues.com.au/wp-content/uploads/2023/03/4TH-OCT.jpg
END:VEVENT
BEGIN:VEVENT
DTSTART;TZID=Australia/Sydney:20250927T200000
DTEND;TZID=Australia/Sydney:20250927T230000
DTSTAMP:20260420T182546
CREATED:20250618T033751Z
LAST-MODIFIED:20250618T033751Z
UID:2519-1759003200-1759014000@www.cessnockleagues.com.au
SUMMARY:Kristy James Duo
DESCRIPTION:
URL:https://www.cessnockleagues.com.au/event/kristy-james-duo/
CATEGORIES:Live Entertainment
ATTACH;FMTTYPE=image/jpeg:https://www.cessnockleagues.com.au/wp-content/uploads/2025/06/SEP-27.jpg
END:VEVENT
BEGIN:VEVENT
DTSTART;TZID=Australia/Sydney:20250926T200000
DTEND;TZID=Australia/Sydney:20250926T230000
DTSTAMP:20260420T182546
CREATED:20250321T032611Z
LAST-MODIFIED:20250618T033645Z
UID:2414-1758916800-1758927600@www.cessnockleagues.com.au
SUMMARY:Ben Smith
DESCRIPTION:
URL:https://www.cessnockleagues.com.au/event/ben-smith/
CATEGORIES:Live Entertainment
ATTACH;FMTTYPE=image/jpeg:https://www.cessnockleagues.com.au/wp-content/uploads/2025/03/SEP-26.jpg
END:VEVENT
BEGIN:VEVENT
DTSTART;TZID=Australia/Sydney:20250920T200000
DTEND;TZID=Australia/Sydney:20250920T230000
DTSTAMP:20260420T182546
CREATED:20250618T033509Z
LAST-MODIFIED:20250805T014853Z
UID:2516-1758398400-1758409200@www.cessnockleagues.com.au
SUMMARY:ChillPill
DESCRIPTION:
URL:https://www.cessnockleagues.com.au/event/chillpill/
CATEGORIES:Live Entertainment
ATTACH;FMTTYPE=image/jpeg:https://www.cessnockleagues.com.au/wp-content/uploads/2025/06/SEP-20.jpg
END:VEVENT
BEGIN:VEVENT
DTSTART;TZID=Australia/Sydney:20250913T200000
DTEND;TZID=Australia/Sydney:20250913T230000
DTSTAMP:20260420T182546
CREATED:20250618T032739Z
LAST-MODIFIED:20250618T032845Z
UID:2511-1757793600-1757804400@www.cessnockleagues.com.au
SUMMARY:Matt McLaren Duo
DESCRIPTION:
URL:https://www.cessnockleagues.com.au/event/matt-mclaren-duo/
CATEGORIES:Live Entertainment
ATTACH;FMTTYPE=image/jpeg:https://www.cessnockleagues.com.au/wp-content/uploads/2025/06/SEP-13.jpg
END:VEVENT
END:VCALENDAR